BEGIN:VCALENDAR
VERSION:2.0
CALSCALE:GREGORIAN
PRODID:-//Diputació de Barcelona//DibaCMS//EN
BEGIN:VEVENT
UID:5962
DTSTAMP:20260423T022105
DTSTART:20130408T000000
DTEND:20140408T000000
SUMMARY:El Poliesportiu Riera Seca acull un entrenament de la selecció catalana de futbol sala
LOCATION:
METHOD:PUBLISH
X-WR-CALNAME:llagosta@llagosta.cat
X-WR-TIMEZONE:Europe/Madrid
DESCRIPTION:La selecció absoluta de la Federació Catalana de Futbol Sala va realitzar ahir un entrenament al Poliesportiu Riera Seca de la Llagosta. Entre els membres del combinat català, hi ha David Soria, jugador del Fútbol Sala Unión Llagostense. 
URI:https://www.llagosta.cat/actualitat/noticies/el-poliesportiu-riera-seca-acull-un-entrenament-de-la-seleccio-catalana-de-futbol-sala.html
CLASS:PUBLIC
END:VEVENT
END:VCALENDAR
