BEGIN:VCALENDAR
VERSION:2.0
CALSCALE:GREGORIAN
PRODID:-//Diputació de Barcelona//DibaCMS//EN
BEGIN:VEVENT
UID:5961
DTSTAMP:20260422T174650
DTSTART:20130408T000000
DTEND:20140408T000000
SUMMARY:Un miler de persones van participar ahir en la 26a Cursa Popular de la Llagosta
LOCATION:
METHOD:PUBLISH
X-WR-CALNAME:llagosta@llagosta.cat
X-WR-TIMEZONE:Europe/Madrid
DESCRIPTION:Iván Limia, del Club Esportiu Montornès, va ser el guanyador de la 26a Cursa Popular Els 10 de la Llagosta, que va organitzar ahir el Club Esportiu Fondistes de la Llagosta amb la col·laboració de l'Ajuntament. Un miler d'atletes van participar en aquesta competició.
URI:https://www.llagosta.cat/actualitat/noticies/un-miler-de-persones-van-participar-ahir-en-la-26a-cursa-popular-de-la-llagosta.html
CLASS:PUBLIC
END:VEVENT
END:VCALENDAR
