BEGIN:VCALENDAR
VERSION:2.0
CALSCALE:GREGORIAN
PRODID:-//Diputació de Barcelona//DibaCMS//EN
BEGIN:VEVENT
UID:5960
DTSTAMP:20260422T112405
DTSTART:20130405T000000
DTEND:20140405T000000
SUMMARY:El grup llagostenc La Pringá farà demà la seva presentació al Centre Cultural
LOCATION:
METHOD:PUBLISH
X-WR-CALNAME:llagosta@llagosta.cat
X-WR-TIMEZONE:Europe/Madrid
DESCRIPTION:El Centre Cultural acollirà demà la presentació del grup de flamenc-pop de la Llagosta La Pringá. El concert començarà al voltant de les onze de la nit. El grup presentarà la seva maqueta i interpretarà el seu ampli repertori.
URI:https://www.llagosta.cat/actualitat/noticies/el-grup-llagostenc-la-pringa-fara-dema-la-seva-presentacio-al-centre-cultural.html
CLASS:PUBLIC
END:VEVENT
END:VCALENDAR
