BEGIN:VCALENDAR
VERSION:2.0
CALSCALE:GREGORIAN
PRODID:-//Diputació de Barcelona//DibaCMS//EN
BEGIN:VEVENT
UID:5959
DTSTAMP:20260423T014550
DTSTART:20130405T000000
DTEND:20140405T000000
SUMMARY:L'Ajuntament organitza dilluns una xerrrada sobre els canvis legislatius en el servei domèstic
LOCATION:
METHOD:PUBLISH
X-WR-CALNAME:llagosta@llagosta.cat
X-WR-TIMEZONE:Europe/Madrid
DESCRIPTION:La Sala de Plens de l'Ajuntament de la Llagosta acollirà dilluns una xerrada sobre els canvis legislatius en la contractació laboral del servei domèstic. L'acte tindrà lloc a dos quarts de set de la tarda i anirà a càrrec de Jaime Soto Sánchez, que és assessor laboral d'UGT. 
URI:https://www.llagosta.cat/actualitat/noticies/lajuntament-organitza-dilluns-una-xerrrada-sobre-els-canvis-legislatius-en-el-servei-domestic.html
CLASS:PUBLIC
END:VEVENT
END:VCALENDAR
