BEGIN:VCALENDAR
VERSION:2.0
CALSCALE:GREGORIAN
PRODID:-//Diputació de Barcelona//DibaCMS//EN
BEGIN:VEVENT
UID:5958
DTSTAMP:20260424T014640
DTSTART:20130405T000000
DTEND:20140405T000000
SUMMARY:El CD La Concòrdia jugarà demà a Altafulla contra el quart classificat del grup
LOCATION:
METHOD:PUBLISH
X-WR-CALNAME:llagosta@llagosta.cat
X-WR-TIMEZONE:Europe/Madrid
DESCRIPTION:El Club Deportivo La Concòrdia es desplaçarà demà a la pista de l'Altafulla. Les de la nostra localitat s'enfrontaran a un rival directe a la classificació. La Concòrdia és cinquena amb 35 punts, mentre que les de Tarragona ocupen el quart lloc amb 36.
URI:https://www.llagosta.cat/actualitat/noticies/el-cd-la-concordia-jugara-dema-a-altafulla-contra-el-quart-classificat-del-grup.html
CLASS:PUBLIC
END:VEVENT
END:VCALENDAR
