BEGIN:VCALENDAR
VERSION:2.0
CALSCALE:GREGORIAN
PRODID:-//Diputació de Barcelona//DibaCMS//EN
BEGIN:VEVENT
UID:5957
DTSTAMP:20260422T122134
DTSTART:20130405T000000
DTEND:20140405T000000
SUMMARY:Més d'un miler de participants, diumenge en la 26a Cursa Popular de la Llagosta
LOCATION:
METHOD:PUBLISH
X-WR-CALNAME:llagosta@llagosta.cat
X-WR-TIMEZONE:Europe/Madrid
DESCRIPTION:Un total de 1.030 persones participaran diumenge en la 26a Cursa Popular Els 10 de la Llagosta, que organitza el Club Esportiu Fondistes de la Llagosta amb la col·laboració de l'Ajuntament. El nombre d'atletes inscrits és similar al de l'edició anterior.
URI:https://www.llagosta.cat/actualitat/noticies/mes-dun-miler-de-participants-diumenge-en-la-26a-cursa-popular-de-la-llagosta.html
CLASS:PUBLIC
END:VEVENT
END:VCALENDAR
