BEGIN:VCALENDAR
VERSION:2.0
CALSCALE:GREGORIAN
PRODID:-//Diputació de Barcelona//DibaCMS//EN
BEGIN:VEVENT
UID:5956
DTSTAMP:20260422T141352
DTSTART:20130405T000000
DTEND:20140405T000000
SUMMARY:Espanya, amb el llagostenc Antonio García, derrota Macedònia per 17 a 24 
LOCATION:
METHOD:PUBLISH
X-WR-CALNAME:llagosta@llagosta.cat
X-WR-TIMEZONE:Europe/Madrid
DESCRIPTION:El llagostenc Antonio García va contribuir amb un gol a la victòria d'Espanya contra  Macedònia per 17 a 24 en partit corresponent a la tercera jornada classificatòria per al Campionat d'Europa d'Handbol 2014. L'enfrontament va tenir lloc dimecres.
URI:https://www.llagosta.cat/actualitat/noticies/espanya-amb-el-llagostenc-antonio-garcia-derrota-macedonia-per-17-a-24-.html
CLASS:PUBLIC
END:VEVENT
END:VCALENDAR
