BEGIN:VCALENDAR
VERSION:2.0
CALSCALE:GREGORIAN
PRODID:-//Diputació de Barcelona//DibaCMS//EN
BEGIN:VEVENT
UID:5954
DTSTAMP:20260422T123802
DTSTART:20130405T000000
DTEND:20140405T000000
SUMMARY:El sènior de l'EBC afronta amb diverses baixes el partit de diumenge contra el Martorelles
LOCATION:
METHOD:PUBLISH
X-WR-CALNAME:llagosta@llagosta.cat
X-WR-TIMEZONE:Europe/Madrid
DESCRIPTION:El sènior de l'Esportiu Bàsquet Club de la Llagosta rebrà diumenge la visita del Martorelles després de la jornada de descans de Setmana Santa. El conjunt de la nostra localitat afrontarà el partit amb diverses baixes.
URI:https://www.llagosta.cat/actualitat/noticies/el-senior-de-lebc-afronta-amb-diverses-baixes-el-partit-de-diumenge-contra-el-martorelles.html
CLASS:PUBLIC
END:VEVENT
END:VCALENDAR
