BEGIN:VCALENDAR
VERSION:2.0
CALSCALE:GREGORIAN
PRODID:-//Diputació de Barcelona//DibaCMS//EN
BEGIN:VEVENT
UID:5953
DTSTAMP:20260422T140421
DTSTART:20130404T000000
DTEND:20140404T000000
SUMMARY:El Consistori i el CAP organitzen diferents activitats per als escolars de la Llagosta
LOCATION:
METHOD:PUBLISH
X-WR-CALNAME:llagosta@llagosta.cat
X-WR-TIMEZONE:Europe/Madrid
DESCRIPTION:L'Ajuntament de la Llagosta i el Centre d'Assistència Primària realitzen durant aquest mes d'abril diverses activitats sobre salut adreçades als escolars de la nostra localitat. Tallers, revisions o vacunacions són algunes de les accions que es porten a terme aquests dies.
URI:https://www.llagosta.cat/actualitat/noticies/el-consistori-i-el-cap-organitzen-diferents-activitats-per-als-escolars-de-la-llagosta.html
CLASS:PUBLIC
END:VEVENT
END:VCALENDAR
