BEGIN:VCALENDAR
VERSION:2.0
CALSCALE:GREGORIAN
PRODID:-//Diputació de Barcelona//DibaCMS//EN
BEGIN:VEVENT
UID:5952
DTSTAMP:20260422T055425
DTSTART:20130404T000000
DTEND:20140404T000000
SUMMARY:El sènior del Vallag comença la fase d'ascens el cap de setmana a Molins de Rei
LOCATION:
METHOD:PUBLISH
X-WR-CALNAME:llagosta@llagosta.cat
X-WR-TIMEZONE:Europe/Madrid
DESCRIPTION:El sènior de l'Handbol Club Vallag de la Llagosta iniciarà aquest cap de setmana la fase d'ascens a Primera Catalana. Els de la nostra localitat jugaran el primer partit a la pista del Molins de Rei.
URI:https://www.llagosta.cat/actualitat/noticies/el-senior-del-vallag-comenca-la-fase-dascens-el-cap-de-setmana-a-molins-de-rei.html
CLASS:PUBLIC
END:VEVENT
END:VCALENDAR
