BEGIN:VCALENDAR
VERSION:2.0
CALSCALE:GREGORIAN
PRODID:-//Diputació de Barcelona//DibaCMS//EN
BEGIN:VEVENT
UID:5951
DTSTAMP:20260422T094640
DTSTART:20130404T000000
DTEND:20140404T000000
SUMMARY:Un total de 55 persones van donar sang en la primera captació de l'any a la Llagosta
LOCATION:
METHOD:PUBLISH
X-WR-CALNAME:llagosta@llagosta.cat
X-WR-TIMEZONE:Europe/Madrid
DESCRIPTION:La primera visita de l'any del Banc de Sang a la Llagosta es va saldar amb 55 donacions efectives. Quatre persones més no en van poder donar per diversos motius. La captació es va realitzar dijous de la setmana passada.
URI:https://www.llagosta.cat/actualitat/noticies/un-total-de-55-persones-van-donar-sang-en-la-primera-captacio-de-lany-a-la-llagosta.html
CLASS:PUBLIC
END:VEVENT
END:VCALENDAR
