BEGIN:VCALENDAR
VERSION:2.0
CALSCALE:GREGORIAN
PRODID:-//Diputació de Barcelona//DibaCMS//EN
BEGIN:VEVENT
UID:5950
DTSTAMP:20260422T090918
DTSTART:20130404T000000
DTEND:20140404T000000
SUMMARY:L'Ajuntament de la Llagosta repararà part del mur de contenció de la riera Seca
LOCATION:
METHOD:PUBLISH
X-WR-CALNAME:llagosta@llagosta.cat
X-WR-TIMEZONE:Europe/Madrid
DESCRIPTION:La Junta de Govern Local de l'Ajuntament de la Llagosta ha aprovat una proposta de la Regidoria de Manteniment Urbà per executar els treballs de reparació urgent del mur de contenció de la riera Seca, a l’alçada dels carrers de Nicolàs Longarón i de Sant Pau. L'estructura es troba deteriorada per un descalç que afecta la cimentació del mur amb una profunditat d’entre 1,5 i 2,30 metres, i per l’acció del corrent d’aigua de la riera podria avançar cap a l’interior del carrer i podria afectar l’estabilitat del mur i de la via pública.
URI:https://www.llagosta.cat/actualitat/noticies/lajuntament-de-la-llagosta-reparara-part-del-mur-de-contencio-de-la-riera-seca.html
CLASS:PUBLIC
END:VEVENT
END:VCALENDAR
