BEGIN:VCALENDAR
VERSION:2.0
CALSCALE:GREGORIAN
PRODID:-//Diputació de Barcelona//DibaCMS//EN
BEGIN:VEVENT
UID:5949
DTSTAMP:20260423T001103
DTSTART:20130403T000000
DTEND:20140403T000000
SUMMARY:La Policia Local sancionarà un individu per un abocament il·legal al polígon industrial
LOCATION:
METHOD:PUBLISH
X-WR-CALNAME:llagosta@llagosta.cat
X-WR-TIMEZONE:Europe/Madrid
DESCRIPTION:La Policia Local sancionarà l'autor d'un abocament il·legal que va ser detectat el 26 de març al carrer de Lleida del polígon industrial de la Llagosta, just al costat del marge de la riera de Caldes. Els agents van ser alertats per una persona que va presenciar l'abandonament d'uns 500 quilos de planxes de porexpan i fibra de vidre.
URI:https://www.llagosta.cat/actualitat/noticies/la-policia-local-sancionara-un-individu-per-un-abocament-illegal-al-poligon-industrial.html
CLASS:PUBLIC
END:VEVENT
END:VCALENDAR
