BEGIN:VCALENDAR
VERSION:2.0
CALSCALE:GREGORIAN
PRODID:-//Diputació de Barcelona//DibaCMS//EN
BEGIN:VEVENT
UID:5948
DTSTAMP:20260422T150201
DTSTART:20130403T000000
DTEND:20140402T000000
SUMMARY:Dissabte, es farà una visita guiada a la planta de compostatge del Vallès Oriental
LOCATION:
METHOD:PUBLISH
X-WR-CALNAME:llagosta@llagosta.cat
X-WR-TIMEZONE:Europe/Madrid
DESCRIPTION:L'Ajuntament de la Llagosta i el Consorci de Residus del Vallès Oriental organitzen una visita guiada a la planta de compostatge de la nostra comarca. L'activitat tindrà lloc dissabte al matí, entre les deu i la una.
URI:https://www.llagosta.cat/actualitat/noticies/dissabte-es-fara-una-visita-guiada-a-la-planta-de-compostatge-del-valles-oriental.html
CLASS:PUBLIC
END:VEVENT
END:VCALENDAR
