BEGIN:VCALENDAR
VERSION:2.0
CALSCALE:GREGORIAN
PRODID:-//Diputació de Barcelona//DibaCMS//EN
BEGIN:VEVENT
UID:5947
DTSTAMP:20260423T000506
DTSTART:20130403T000000
DTEND:20140403T000000
SUMMARY:El Fútbol Sala Unión Llagostense jugarà a la pista del Sant Julià de Ramis B
LOCATION:
METHOD:PUBLISH
X-WR-CALNAME:llagosta@llagosta.cat
X-WR-TIMEZONE:Europe/Madrid
DESCRIPTION:El primer equip del Fútbol Sala Unión Llagostense reprendrà el proper cap de setmana la competició després de l'aturada de Setmana Santa. Els de la nostra localitat visitaran la pista d'un dels darrers classificats, el Sant Julià de Ramis B.
URI:https://www.llagosta.cat/actualitat/noticies/el-futbol-sala-union-llagostense-jugara-a-la-pista-del-sant-julia-de-ramis-b.html
CLASS:PUBLIC
END:VEVENT
END:VCALENDAR
