BEGIN:VCALENDAR
VERSION:2.0
CALSCALE:GREGORIAN
PRODID:-//Diputació de Barcelona//DibaCMS//EN
BEGIN:VEVENT
UID:5946
DTSTAMP:20260422T125920
DTSTART:20130403T000000
DTEND:20140403T000000
SUMMARY:El Viejas Glorias es desplaça al camp del tercer classificat, l'Águilas de Montcada
LOCATION:
METHOD:PUBLISH
X-WR-CALNAME:llagosta@llagosta.cat
X-WR-TIMEZONE:Europe/Madrid
DESCRIPTION:El Club Deportivo Viejas Glorias jugarà el proper cap de setmana al camp de l'Águilas de Montcada després de la jornada de descans per Setmana Santa. Els llagostencs són vuitens amb 33 punts, mentre que l'Águilas ocupa la tercera posició amb 51 punts, a tres del líder, el Llano.
URI:https://www.llagosta.cat/actualitat/noticies/el-viejas-glorias-es-desplaca-al-camp-del-tercer-classificat-laguilas-de-montcada.html
CLASS:PUBLIC
END:VEVENT
END:VCALENDAR
