BEGIN:VCALENDAR
VERSION:2.0
CALSCALE:GREGORIAN
PRODID:-//Diputació de Barcelona//DibaCMS//EN
BEGIN:VEVENT
UID:5945
DTSTAMP:20260422T235118
DTSTART:20130402T000000
DTEND:20140402T000000
SUMMARY:El PSC va retirar la proposta de resolució sobre Can Milans després d'un debat intens
LOCATION:
METHOD:PUBLISH
X-WR-CALNAME:llagosta@llagosta.cat
X-WR-TIMEZONE:Europe/Madrid
DESCRIPTION:Després d'un debat que va durar gairebé 45 minuts, el PSC va accedir dijous a retirar del ple una proposta de resolució per convocar urgentment els membres que formaven part de la Plataforma en defensa de Can Milans a partir de la sentència favorable a l'Ajuntament de la Llagosta. 
URI:https://www.llagosta.cat/actualitat/noticies/el-psc-va-retirar-la-proposta-de-resolucio-sobre-can-milans-despres-dun-debat-intens.html
CLASS:PUBLIC
END:VEVENT
END:VCALENDAR
