BEGIN:VCALENDAR
VERSION:2.0
CALSCALE:GREGORIAN
PRODID:-//Diputació de Barcelona//DibaCMS//EN
BEGIN:VEVENT
UID:5944
DTSTAMP:20260422T135505
DTSTART:20130402T000000
DTEND:20140202T000000
SUMMARY:L'Ajuntament de la Llagosta dóna llum verda a una moció per prevenir els desnonaments 
LOCATION:
METHOD:PUBLISH
X-WR-CALNAME:llagosta@llagosta.cat
X-WR-TIMEZONE:Europe/Madrid
DESCRIPTION:Durant el ple celebrat dijous es va aprovar, amb l'abstenció del PP, una moció presentada pel grup municipal d'ICV-EUiA amb mesures i accions per prevenir els desnonaments de la residència habitual. L'Ajuntament es compromet a augmentar els seus esforços contra aquesta problemàtica.
URI:https://www.llagosta.cat/actualitat/noticies/lajuntament-de-la-llagosta-dona-llum-verda-a-una-mocio-per-prevenir-els-desnonaments-.html
CLASS:PUBLIC
END:VEVENT
END:VCALENDAR
