BEGIN:VCALENDAR
VERSION:2.0
CALSCALE:GREGORIAN
PRODID:-//Diputació de Barcelona//DibaCMS//EN
BEGIN:VEVENT
UID:5943
DTSTAMP:20260422T143703
DTSTART:20130402T000000
DTEND:20140420T000000
SUMMARY:El ple acorda congelar les tarifes de la guarderia municipal Cucutras per al proper curs
LOCATION:
METHOD:PUBLISH
X-WR-CALNAME:llagosta@llagosta.cat
X-WR-TIMEZONE:Europe/Madrid
DESCRIPTION:L'Ajuntament de la Llagosta va aprovar, durant el ple ordinari del mes de març, celebrat dijous, congelar les tarifes de l'Escola Bressol Municipal Cucutras el curs 2013-2014 amb els vots a favor de tots els regidors presents a la sala, excepte els del PSC, que es van abstenir. 
URI:https://www.llagosta.cat/actualitat/noticies/el-ple-acorda-congelar-les-tarifes-de-la-guarderia-municipal-cucutras-per-al-proper-curs.html
CLASS:PUBLIC
END:VEVENT
END:VCALENDAR
