BEGIN:VCALENDAR
VERSION:2.0
CALSCALE:GREGORIAN
PRODID:-//Diputació de Barcelona//DibaCMS//EN
BEGIN:VEVENT
UID:5942
DTSTAMP:20260422T110954
DTSTART:20130328T000000
DTEND:20140320T000000
SUMMARY:Entre el 8 i el 9 d'abril s'enderrocarà el badalot de l'aparcament de la plaça de la Concòrdia
LOCATION:
METHOD:PUBLISH
X-WR-CALNAME:llagosta@llagosta.cat
X-WR-TIMEZONE:Europe/Madrid
DESCRIPTION:L'empresa que està realitzant les obres d'urbanització de la plaça de la Concòrdia de la Llagosta, Xedex SA, executarà entre el dilluns 8 d'abril a les 9 del matí i el dimarts 9 d'abril a les 18 hores l'enderroc del badalot de la rampa del pàrquing que hi ha sota aquest espai públic. Durant aquest període de temps no es podrà ni entrar ni sortir del pàrquing per motius de seguretat.
URI:https://www.llagosta.cat/actualitat/noticies/entre-el-8-i-el-9-dabril-senderrocara-el-badalot-de-laparcament-de-la-placa-de-la-concordia.html
CLASS:PUBLIC
END:VEVENT
END:VCALENDAR
