BEGIN:VCALENDAR
VERSION:2.0
CALSCALE:GREGORIAN
PRODID:-//Diputació de Barcelona//DibaCMS//EN
BEGIN:VEVENT
UID:5941
DTSTAMP:20260422T141048
DTSTART:20130328T000000
DTEND:20140327T000000
SUMMARY:L'equip sènior del Joventut Handbol La Llagosta ja coneix els seus rivals en la fase d'ascens
LOCATION:
METHOD:PUBLISH
X-WR-CALNAME:llagosta@llagosta.cat
X-WR-TIMEZONE:Europe/Madrid
DESCRIPTION:El sènior del Joventut Handbol La Llagosta s'haurà d'enfrontar al Garbí de Palafrugell, al Sabadell Handbol i al Sant Llorenç-Sant Feliu de Llobregat B en la fase d'ascens a Tercera Preferent. Els dos primers classificats d'aquesta lligueta a doble volta pujaran de categoria.
URI:https://www.llagosta.cat/actualitat/noticies/lequip-senior-del-joventut-handbol-la-llagosta-ja-coneix-els-seus-rivals-en-la-fase-dascens.html
CLASS:PUBLIC
END:VEVENT
END:VCALENDAR
