BEGIN:VCALENDAR
VERSION:2.0
CALSCALE:GREGORIAN
PRODID:-//Diputació de Barcelona//DibaCMS//EN
BEGIN:VEVENT
UID:5940
DTSTAMP:20260422T091501
DTSTART:20130328T000000
DTEND:20140328T000000
SUMMARY:Nova adhesió al projecte Suem la samarreta i ens mullem contra l'atur
LOCATION:
METHOD:PUBLISH
X-WR-CALNAME:llagosta@llagosta.cat
X-WR-TIMEZONE:Europe/Madrid
DESCRIPTION:L'Associació Catalana de Gestors Esportius Professionals s'ha adherit al projecte Suem la samarreta i ens mullem contra l'atur, que organitza l'Ajuntament de la Llagosta. L'acte de signatura de la col·laboració va tenir lloc ahir a la Sala de govern de l'edifici administratiu de l'Ajuntament amb la presència de l'alcalde, Alberto López; el president de l'Associació Catalana de Gestors Esportius, Josep Campaña, i el regidor de Treball, Indústria i Formació Ocupacional, Adelino Macías.
URI:https://www.llagosta.cat/actualitat/noticies/nova-adhesio-al-projecte-suem-la-samarreta-i-ens-mullem-contra-latur.html
CLASS:PUBLIC
END:VEVENT
END:VCALENDAR
