BEGIN:VCALENDAR
VERSION:2.0
CALSCALE:GREGORIAN
PRODID:-//Diputació de Barcelona//DibaCMS//EN
BEGIN:VEVENT
UID:5939
DTSTAMP:20260422T182419
DTSTART:20130328T000000
DTEND:20140329T000000
SUMMARY:L'Ajuntament de la Llagosta congelarà les tarifes de la guarderia municipal el proper curs
LOCATION:
METHOD:PUBLISH
X-WR-CALNAME:llagosta@llagosta.cat
X-WR-TIMEZONE:Europe/Madrid
DESCRIPTION:L'Ajuntament de la Llagosta congelarà les tarifes de l'Escola Bressol Municipal Cucutras el curs 2013-2014. Aquesta és la proposta que presentarà aquesta tarda l'equip de govern municipal al ple ordinari de març. 
URI:https://www.llagosta.cat/actualitat/noticies/lajuntament-de-la-llagosta-congelara-les-tarifes-de-la-guarderia-municipal-el-proper-curs.html
CLASS:PUBLIC
END:VEVENT
END:VCALENDAR
