BEGIN:VCALENDAR
VERSION:2.0
CALSCALE:GREGORIAN
PRODID:-//Diputació de Barcelona//DibaCMS//EN
BEGIN:VEVENT
UID:5938
DTSTAMP:20260422T053517
DTSTART:20130327T000000
DTEND:20140327T000000
SUMMARY:El Gimnàs Okinawa Team, molt satisfet amb la competició que va organitzar diumenge
LOCATION:
METHOD:PUBLISH
X-WR-CALNAME:llagosta@llagosta.cat
X-WR-TIMEZONE:Europe/Madrid
DESCRIPTION:El Gimnàs Okinawa Team de la Llagosta ha fet un balanç molt positiu del Trofeu La Llagosta 2013 Open d'Arts Marcials, que va organitzar diumenge al Complex Esportiu Municipal El Turó. La competició es va celebrar entre dos quarts de deu del matí i les dues del migdia i va comptar amb 80 participants de diverses poblacions.
URI:https://www.llagosta.cat/actualitat/noticies/el-gimnas-okinawa-team-molt-satisfet-amb-la-competicio-que-va-organitzar-diumenge.html
CLASS:PUBLIC
END:VEVENT
END:VCALENDAR
