BEGIN:VCALENDAR
VERSION:2.0
CALSCALE:GREGORIAN
PRODID:-//Diputació de Barcelona//DibaCMS//EN
BEGIN:VEVENT
UID:5937
DTSTAMP:20260421T235219
DTSTART:20130327T000000
DTEND:20140427T000000
SUMMARY:Ja s'han inscrit més de 800 atletes per participar a la Cursa Popular de la Llagosta
LOCATION:
METHOD:PUBLISH
X-WR-CALNAME:llagosta@llagosta.cat
X-WR-TIMEZONE:Europe/Madrid
DESCRIPTION:Més de 800 persones s'han inscrit ja per participar en l'edició número 26 de la Cursa Popular Els 10 de la Llagosta que organitzen el Club Esportiu Fondistes de la Llagosta i l'Ajuntament de la nostra localitat. La prova tindrà lloc el dia 7 d'abril i està previst que hi prenguin part un màxim de 1.100 atletes, cent més que l'any passat. 
URI:https://www.llagosta.cat/actualitat/noticies/ja-shan-inscrit-mes-de-800-atletes-per-participar-a-la-cursa-popular-de-la-llagosta.html
CLASS:PUBLIC
END:VEVENT
END:VCALENDAR
