BEGIN:VCALENDAR
VERSION:2.0
CALSCALE:GREGORIAN
PRODID:-//Diputació de Barcelona//DibaCMS//EN
BEGIN:VEVENT
UID:5936
DTSTAMP:20260421T235342
DTSTART:20130327T000000
DTEND:20140327T000000
SUMMARY:Demà, tindrà lloc a la plaça d'Antoni Baqué la primera captació de sang a la Llagosta 
LOCATION:
METHOD:PUBLISH
X-WR-CALNAME:llagosta@llagosta.cat
X-WR-TIMEZONE:Europe/Madrid
DESCRIPTION:Una unitat mòbil del Banc de Sang vindrà demà a la Llagosta per fer la primera captació sanguínia de l'any. Les donacions es podran fer al matí, de deu a una, i a la tarda, de cinc a nou, a la plaça d'Antoni Baqué. 
URI:https://www.llagosta.cat/actualitat/noticies/dema-tindra-lloc-a-la-placa-dantoni-baque-la-primera-captacio-de-sang-a-la-llagosta-.html
CLASS:PUBLIC
END:VEVENT
END:VCALENDAR
