BEGIN:VCALENDAR
VERSION:2.0
CALSCALE:GREGORIAN
PRODID:-//Diputació de Barcelona//DibaCMS//EN
BEGIN:VEVENT
UID:5935
DTSTAMP:20260422T015629
DTSTART:20130327T000000
DTEND:20140327T000000
SUMMARY:El Viejas Glorias guanya per 3 a 0 en no presentar-se a la Llagosta el seu rival, el Montmeló
LOCATION:
METHOD:PUBLISH
X-WR-CALNAME:llagosta@llagosta.cat
X-WR-TIMEZONE:Europe/Madrid
DESCRIPTION:El Club Deportivo Viejas Glorias no va disputar el partit de dissabte contra el Montmeló perquè el seu rival no s'hi va presentar. Els llagostencs guanyen així el partit per 3 a 0.
URI:https://www.llagosta.cat/actualitat/noticies/el-viejas-glorias-guanya-per-3-a-0-en-no-presentar-se-a-la-llagosta-el-seu-rival-el-montmelo.html
CLASS:PUBLIC
END:VEVENT
END:VCALENDAR
