BEGIN:VCALENDAR
VERSION:2.0
CALSCALE:GREGORIAN
PRODID:-//Diputació de Barcelona//DibaCMS//EN
BEGIN:VEVENT
UID:5934
DTSTAMP:20260421T220652
DTSTART:20130326T000000
DTEND:20140326T000000
SUMMARY:Fins al 8 d'abril es poden presentar projectes per a la segona fase de Suem la samarreta
LOCATION:
METHOD:PUBLISH
X-WR-CALNAME:llagosta@llagosta.cat
X-WR-TIMEZONE:Europe/Madrid
DESCRIPTION:El projecte Suem la samarreta i ens mullem contra l'atur manté obert fins al 8 d'abril el període d'inscripcions per participar a l'acció formativa que té com a principal objectiu identificar aspectes claus per crear un negoci en l'àmbit de l'esport. Totes aquelles persones que estiguin interessades a crear una empresa en aquest sector poden presentar les seves propostes al web www.suemlasamarreta.org. 
URI:https://www.llagosta.cat/actualitat/noticies/fins-al-8-dabril-es-poden-presentar-projectes-per-a-la-segona-fase-de-suem-la-samarreta.html
CLASS:PUBLIC
END:VEVENT
END:VCALENDAR
