BEGIN:VCALENDAR
VERSION:2.0
CALSCALE:GREGORIAN
PRODID:-//Diputació de Barcelona//DibaCMS//EN
BEGIN:VEVENT
UID:5933
DTSTAMP:20260422T190237
DTSTART:20130326T000000
DTEND:20140430T000000
SUMMARY:El sènior del Vallag acaba la fase prèvia amb una derrota contra el líder per 34 a 24
LOCATION:
METHOD:PUBLISH
X-WR-CALNAME:llagosta@llagosta.cat
X-WR-TIMEZONE:Europe/Madrid
DESCRIPTION:El sènior de l'Handbol Club Vallag de la Llagosta va perdre el cap de setmana passat a la pista del líder, la Salle Bonanova B, per 34 a 24. Els de la nostra localitat disputaven el partit sabent que estaven classificats per jugar la fase d'ascens a Primera Catalana.
URI:https://www.llagosta.cat/actualitat/noticies/el-senior-del-vallag-acaba-la-fase-previa-amb-una-derrota-contra-el-lider-per-34-a-24.html
CLASS:PUBLIC
END:VEVENT
END:VCALENDAR
