BEGIN:VCALENDAR
VERSION:2.0
CALSCALE:GREGORIAN
PRODID:-//Diputació de Barcelona//DibaCMS//EN
BEGIN:VEVENT
UID:5932
DTSTAMP:20260422T013141
DTSTART:20130326T000000
DTEND:20140326T000000
SUMMARY:Més entitats i comerços de la Llagosta, a favor de promoure l'ús del català
LOCATION:
METHOD:PUBLISH
X-WR-CALNAME:llagosta@llagosta.cat
X-WR-TIMEZONE:Europe/Madrid
DESCRIPTION:El Consorci per a la Normalització Lingüística del Vallès Oriental, a través de l’Oficina de Català de la Llagosta, ha signat un acord de col·laboració amb el Club Esportiu Fondistes de la Llagosta per impulsar la campanya de voluntariat lingüístic Mou-te en català!, amb la finalitat de fomentar l’ús oral de la llengua catalana en l’àmbit esportiu.
URI:https://www.llagosta.cat/actualitat/noticies/mes-entitats-i-comercos-de-la-llagosta-a-favor-de-promoure-lus-del-catala.html
CLASS:PUBLIC
END:VEVENT
END:VCALENDAR
