BEGIN:VCALENDAR
VERSION:2.0
CALSCALE:GREGORIAN
PRODID:-//Diputació de Barcelona//DibaCMS//EN
BEGIN:VEVENT
UID:5931
DTSTAMP:20260422T090810
DTSTART:20130326T000000
DTEND:20140326T000000
SUMMARY:L'equip sènior de l'EBC perd clarament contra el Lliçà d'Amunt B i es manté en desena posició
LOCATION:
METHOD:PUBLISH
X-WR-CALNAME:llagosta@llagosta.cat
X-WR-TIMEZONE:Europe/Madrid
DESCRIPTION:El sènior de l'Esportiu Bàsquet Club de la Llagosta va caure per un contundent 83 a 40 a la pista del Lliçà d'Amunt B el cap de setmana passat. Els de la nostra localitat continuen ocupant la desena posició, amb deu victòries i catorze derrotes.
URI:https://www.llagosta.cat/actualitat/noticies/lequip-senior-de-lebc-perd-clarament-contra-el-llica-damunt-b-i-es-mante-en-desena-posicio.html
CLASS:PUBLIC
END:VEVENT
END:VCALENDAR
