BEGIN:VCALENDAR
VERSION:2.0
CALSCALE:GREGORIAN
PRODID:-//Diputació de Barcelona//DibaCMS//EN
BEGIN:VEVENT
UID:5930
DTSTAMP:20260422T182458
DTSTART:20130325T000000
DTEND:20140325T000000
SUMMARY:Bona acollida del Concert de Sant Josep de l'Escola Municipal de Música
LOCATION:
METHOD:PUBLISH
X-WR-CALNAME:llagosta@llagosta.cat
X-WR-TIMEZONE:Europe/Madrid
DESCRIPTION:L'Escola Municipal de Música de la Llagosta ha fet avui un balanç positiu del Concert de Sant Josep i les audicions que va organitzar la setmana passada. Els recitals es van desenvolupar al Centre Cultural i a Can Pelegrí.
URI:https://www.llagosta.cat/actualitat/noticies/bona-acollida-del-concert-de-sant-josep-de-lescola-municipal-de-musica.html
CLASS:PUBLIC
END:VEVENT
END:VCALENDAR
