BEGIN:VCALENDAR
VERSION:2.0
CALSCALE:GREGORIAN
PRODID:-//Diputació de Barcelona//DibaCMS//EN
BEGIN:VEVENT
UID:5929
DTSTAMP:20260421T220552
DTSTART:20130325T000000
DTEND:20140325T000000
SUMMARY:Mor Mateu Bartalot, membre de diverses entitats i divulgador de la història recent de la Llagosta
LOCATION:
METHOD:PUBLISH
X-WR-CALNAME:llagosta@llagosta.cat
X-WR-TIMEZONE:Europe/Madrid
DESCRIPTION:Aquest matí s'ha fet l'enterrament de Mateu Bartalot, que va morir dissabte a l'edat de 81 anys, després d'uns dies de malaltia. Bartalot era, entre d'altres entitats, membre de l'Agrupació Sardanista de la Llagosta, del Casal d'Avis i de la Fundació Agrària i Cultural de la Llagosta.
URI:https://www.llagosta.cat/actualitat/noticies/mor-mateu-bartalot-membre-de-diverses-entitats-i-divulgador-de-la-historia-recent-de-la-llagosta.html
CLASS:PUBLIC
END:VEVENT
END:VCALENDAR
