BEGIN:VCALENDAR
VERSION:2.0
CALSCALE:GREGORIAN
PRODID:-//Diputació de Barcelona//DibaCMS//EN
BEGIN:VEVENT
UID:5928
DTSTAMP:20260422T000129
DTSTART:20130325T000000
DTEND:20140325T000000
SUMMARY:El FS Unión Llagostense guanya la Garriga (4-0) i es manté a la parta alta de la taula
LOCATION:
METHOD:PUBLISH
X-WR-CALNAME:llagosta@llagosta.cat
X-WR-TIMEZONE:Europe/Madrid
DESCRIPTION:El primer equip del Fútbol Sala Unión Llagostense ha guanyat aquest cap de setmana la Garriga per un clar 4 a 0. Els de la nostra localitat van fer un bon partit que els permet pujar un lloc a la taula i situar-se en quarta posició.
URI:https://www.llagosta.cat/actualitat/noticies/el-fs-union-llagostense-guanya-la-garriga-4-0-i-es-mante-a-la-parta-alta-de-la-taula.html
CLASS:PUBLIC
END:VEVENT
END:VCALENDAR
