BEGIN:VCALENDAR
VERSION:2.0
CALSCALE:GREGORIAN
PRODID:-//Diputació de Barcelona//DibaCMS//EN
BEGIN:VEVENT
UID:5927
DTSTAMP:20260422T092905
DTSTART:20130322T000000
DTEND:20140322T000000
SUMMARY:El Consistori llagostenc se suma a la campanya mediambiental L'hora del planeta
LOCATION:
METHOD:PUBLISH
X-WR-CALNAME:llagosta@llagosta.cat
X-WR-TIMEZONE:Europe/Madrid
DESCRIPTION:L'Ajuntament s'adhereix demà a la campanya mediambiental L'hora del planeta i
entre les 20.30 i les 21.30 hores apagarà els llums de l'edifici de l'Ajuntament, de l'edifici de serveis administratius del passeig del Pintor Sert i de la font Tot aigua.
URI:https://www.llagosta.cat/actualitat/noticies/el-consistori-llagostenc-se-suma-a-la-campanya-mediambiental-lhora-del-planeta.html
CLASS:PUBLIC
END:VEVENT
END:VCALENDAR
