BEGIN:VCALENDAR
VERSION:2.0
CALSCALE:GREGORIAN
PRODID:-//Diputació de Barcelona//DibaCMS//EN
BEGIN:VEVENT
UID:5926
DTSTAMP:20260422T012117
DTSTART:20130322T000000
DTEND:20140322T000000
SUMMARY:El Casal Obert d'ahir es va centrar en la realització de tallers de Pasqua
LOCATION:
METHOD:PUBLISH
X-WR-CALNAME:llagosta@llagosta.cat
X-WR-TIMEZONE:Europe/Madrid
DESCRIPTION:Un gran nombre de famílies i veïns de la Llagosta van participar als tallers de Pasqua Decora mil i un ous, que es van fer ahir a l'avinguda de l'Onze de Setembre organitzats per la Regidoria d'Infància.
URI:https://www.llagosta.cat/actualitat/noticies/el-casal-obert-dahir-es-va-centrar-en-la-realitzacio-de-tallers-de-pasqua.html
CLASS:PUBLIC
END:VEVENT
END:VCALENDAR
