BEGIN:VCALENDAR
VERSION:2.0
CALSCALE:GREGORIAN
PRODID:-//Diputació de Barcelona//DibaCMS//EN
BEGIN:VEVENT
UID:5925
DTSTAMP:20260421T222633
DTSTART:20130322T000000
DTEND:20140322T000000
SUMMARY:El Joventut Handbol organitza un curs per obtenir el títol de monitor bàsic d'handbol
LOCATION:
METHOD:PUBLISH
X-WR-CALNAME:llagosta@llagosta.cat
X-WR-TIMEZONE:Europe/Madrid
DESCRIPTION:El Joventut Handbol La Llagosta organitzarà la propera setmana un seminari per obtenir el títol de monitor bàsic d'handbol. Aquesta és la formació mínima exigida per poder entrenar equips de base de les categories benjamí, aleví i infantil. 
URI:https://www.llagosta.cat/actualitat/noticies/el-joventut-handbol-organitza-un-curs-per-obtenir-el-titol-de-monitor-basic-dhandbol.html
CLASS:PUBLIC
END:VEVENT
END:VCALENDAR
