BEGIN:VCALENDAR
VERSION:2.0
CALSCALE:GREGORIAN
PRODID:-//Diputació de Barcelona//DibaCMS//EN
BEGIN:VEVENT
UID:5924
DTSTAMP:20260422T215702
DTSTART:20130322T000000
DTEND:20140322T000000
SUMMARY:El conjunt sènior del Joventut Handbol acaba la primera fase amb una nova victòria
LOCATION:
METHOD:PUBLISH
X-WR-CALNAME:llagosta@llagosta.cat
X-WR-TIMEZONE:Europe/Madrid
DESCRIPTION:El sènior del Joventut Handbol La Llagosta acaba la primera fase del campionat com a líder del grup A de la Tercera Catalana. Els de la nostra localitat, que van vèncer el cap de setmana passat el Sant Sadurní Atlètic per 42 a 17, només han perdut dos partits en tota la temporada.
URI:https://www.llagosta.cat/actualitat/noticies/el-conjunt-senior-del-joventut-handbol-acaba-la-primera-fase-amb-una-nova-victoria.html
CLASS:PUBLIC
END:VEVENT
END:VCALENDAR
