BEGIN:VCALENDAR
VERSION:2.0
CALSCALE:GREGORIAN
PRODID:-//Diputació de Barcelona//DibaCMS//EN
BEGIN:VEVENT
UID:5923
DTSTAMP:20260423T000937
DTSTART:20130322T000000
DTEND:20140322T000000
SUMMARY:Diumenge, trofeu d'arts marcials al Turó, organitzat pel Gimnàs Okinawa Team
LOCATION:
METHOD:PUBLISH
X-WR-CALNAME:llagosta@llagosta.cat
X-WR-TIMEZONE:Europe/Madrid
DESCRIPTION:El Gimnàs Okinawa Team de la Llagosta organitzarà diumenge el Trofeu La Llagosta 2013 Open d'Arts Marcials. L'activitat tindrà lloc a partir de les nou del matí al Complex Esportiu Municipal El Turó i comptarà amb la participació d'uns 90 competidors, 16 dels quals són membres del Gimnàs Okinawa Team.
URI:https://www.llagosta.cat/actualitat/noticies/diumenge-trofeu-darts-marcials-al-turo-organitzat-pel-gimnas-okinawa-team.html
CLASS:PUBLIC
END:VEVENT
END:VCALENDAR
