BEGIN:VCALENDAR
VERSION:2.0
CALSCALE:GREGORIAN
PRODID:-//Diputació de Barcelona//DibaCMS//EN
BEGIN:VEVENT
UID:5922
DTSTAMP:20260422T012811
DTSTART:20130322T000000
DTEND:20140322T000000
SUMMARY:El sènior de l'EBC es desplaça a la pista del Lliçà d'Amunt després d'encaixar una derrota
LOCATION:
METHOD:PUBLISH
X-WR-CALNAME:llagosta@llagosta.cat
X-WR-TIMEZONE:Europe/Madrid
DESCRIPTION:El sènior de l'Esportiu Bàsquet Club de la Llagosta jugarà diumenge a la pista del Lliçà d'Amunt B. Els llagostencs van perdre la jornada passada a casa contra el Club Natació Caldes B per 50 a 65.
URI:https://www.llagosta.cat/actualitat/noticies/el-senior-de-lebc-es-desplaca-a-la-pista-del-llica-damunt-despres-dencaixar-una-derrota.html
CLASS:PUBLIC
END:VEVENT
END:VCALENDAR
