BEGIN:VCALENDAR
VERSION:2.0
CALSCALE:GREGORIAN
PRODID:-//Diputació de Barcelona//DibaCMS//EN
BEGIN:VEVENT
UID:5921
DTSTAMP:20260422T000251
DTSTART:20130322T000000
DTEND:20140322T000000
SUMMARY:L'Ajuntament va tancar el pressupost de 2012 amb un resultat positiu de 22.263 euros
LOCATION:
METHOD:PUBLISH
X-WR-CALNAME:llagosta@llagosta.cat
X-WR-TIMEZONE:Europe/Madrid
DESCRIPTION:L'Ajuntament de la Llagosta va tancar el pressupost de 2012 amb un resultat positiu de 22.263 euros, tot i el descens d'ingressos que es va produir durant l'any passat i havent mantingut els serveis que s'ofereixen al conjunt de la ciutadania. Els responsables municipals han avançat que durant aquest any es mantindran les mesures de contenció de la despesa.
URI:https://www.llagosta.cat/actualitat/noticies/lajuntament-va-tancar-el-pressupost-de-2012-amb-un-resultat-positiu-de-22263-euros.html
CLASS:PUBLIC
END:VEVENT
END:VCALENDAR
