BEGIN:VCALENDAR
VERSION:2.0
CALSCALE:GREGORIAN
PRODID:-//Diputació de Barcelona//DibaCMS//EN
BEGIN:VEVENT
UID:5920
DTSTAMP:20260422T130437
DTSTART:20130321T000000
DTEND:20140321T000000
SUMMARY:Dues medalles de bronze per al Club de Judo de la Llagosta en el rànquing català sub-15
LOCATION:
METHOD:PUBLISH
X-WR-CALNAME:llagosta@llagosta.cat
X-WR-TIMEZONE:Europe/Madrid
DESCRIPTION:El Club de Judo del Gimnàs la Llagosta ha aconseguit dos bronzes al segon rànquing català sub-15. Sergi López i Paula Macià van pujar al podi i van donar dues medalles més al club llagostenc.
URI:https://www.llagosta.cat/actualitat/noticies/dues-medalles-de-bronze-per-al-club-de-judo-de-la-llagosta-en-el-ranquing-catala-sub-15.html
CLASS:PUBLIC
END:VEVENT
END:VCALENDAR
