BEGIN:VCALENDAR
VERSION:2.0
CALSCALE:GREGORIAN
PRODID:-//Diputació de Barcelona//DibaCMS//EN
BEGIN:VEVENT
UID:5919
DTSTAMP:20260422T105609
DTSTART:20130321T000000
DTEND:20140321T000000
SUMMARY:La Regidoria de Joventut va organitzar ahir una reunió amb joves sobre la Festa Major
LOCATION:
METHOD:PUBLISH
X-WR-CALNAME:llagosta@llagosta.cat
X-WR-TIMEZONE:Europe/Madrid
DESCRIPTION:Una dotzena de joves van participar ahir a la reunió convocada per la Regidoria de Joventut amb l'objectiu de recollir propostes de cara a la Festa Major 2013. Els assistents van acordar la creació de tres comissions de treball i continuar trobant-se per concretar possibles activitats. 
URI:https://www.llagosta.cat/actualitat/noticies/la-regidoria-de-joventut-va-organitzar-ahir-una-reunio-amb-joves-sobre-la-festa-major.html
CLASS:PUBLIC
END:VEVENT
END:VCALENDAR
