BEGIN:VCALENDAR
VERSION:2.0
CALSCALE:GREGORIAN
PRODID:-//Diputació de Barcelona//DibaCMS//EN
BEGIN:VEVENT
UID:5918
DTSTAMP:20260422T033148
DTSTART:20130321T000000
DTEND:20140321T000000
SUMMARY:Endesa millora el servei a la Llagosta amb la renovació d'una subestació de Sant Fost
LOCATION:
METHOD:PUBLISH
X-WR-CALNAME:llagosta@llagosta.cat
X-WR-TIMEZONE:Europe/Madrid
DESCRIPTION:L'empresa elèctrica Endesa ha renovat els sistemes de control remot de la subestació de Sant Fost de Campsentelles per millorar el servei que presta a més de 85.000 clients de municipis del Vallès Oriental i de l'Occidental, entre ells el de la Llagosta.
URI:https://www.llagosta.cat/actualitat/noticies/endesa-millora-el-servei-a-la-llagosta-amb-la-renovacio-duna-subestacio-de-sant-fost.html
CLASS:PUBLIC
END:VEVENT
END:VCALENDAR
