BEGIN:VCALENDAR
VERSION:2.0
CALSCALE:GREGORIAN
PRODID:-//Diputació de Barcelona//DibaCMS//EN
BEGIN:VEVENT
UID:5917
DTSTAMP:20260422T051700
DTSTART:20130321T000000
DTEND:20140321T000000
SUMMARY:El sènior de l'Handbol Club Vallag derrota el Cambrils i es classifica per a la fase d'ascens
LOCATION:
METHOD:PUBLISH
X-WR-CALNAME:llagosta@llagosta.cat
X-WR-TIMEZONE:Europe/Madrid
DESCRIPTION:El sènior de l'Handbol Club Vallag de la Llagosta jugarà la fase d'ascens a Primera Catalana. Els de la nostra localitat van vèncer el cap de setmana passat el Cambrils per 30 a 26. La propera jornada, darrera de la fase prèvia, el Vallag visitarà la pista del líder, la Salle Bonanova B.
URI:https://www.llagosta.cat/actualitat/noticies/el-senior-de-lhandbol-club-vallag-derrota-el-cambrils-i-es-classifica-per-a-la-fase-dascens.html
CLASS:PUBLIC
END:VEVENT
END:VCALENDAR
