BEGIN:VCALENDAR
VERSION:2.0
CALSCALE:GREGORIAN
PRODID:-//Diputació de Barcelona//DibaCMS//EN
BEGIN:VEVENT
UID:5916
DTSTAMP:20260422T034932
DTSTART:20130320T000000
DTEND:20140320T000000
SUMMARY:El CD La Concòrdia derrota el cuer, el Sant Cugat, i se situa a quatre punts del líder
LOCATION:
METHOD:PUBLISH
X-WR-CALNAME:llagosta@llagosta.cat
X-WR-TIMEZONE:Europe/Madrid
DESCRIPTION:El Club Deportivo La Concòrdia va guanyar el cap de setmana passat per 4 a 2 el Sant Cugat. Les de la nostra localitat es mantenen en quarta posició a la Divisió d'Honor Catalana. La propera jornada descansaran, ja que han ajornat el partit que tenien contra el Castellbisbal.
URI:https://www.llagosta.cat/actualitat/noticies/el-cd-la-concordia-derrota-el-cuer-el-sant-cugat-i-se-situa-a-quatre-punts-del-lider.html
CLASS:PUBLIC
END:VEVENT
END:VCALENDAR
