BEGIN:VCALENDAR
VERSION:2.0
CALSCALE:GREGORIAN
PRODID:-//Diputació de Barcelona//DibaCMS//EN
BEGIN:VEVENT
UID:5915
DTSTAMP:20260422T234546
DTSTART:20130320T000000
DTEND:20140320T000000
SUMMARY:L'Ajuntament fa un primer balanç positiu dels actes de les festes de Sant Josep
LOCATION:
METHOD:PUBLISH
X-WR-CALNAME:llagosta@llagosta.cat
X-WR-TIMEZONE:Europe/Madrid
DESCRIPTION:A falta de celebrar-se la darrera activitat del programa d'actes de Sant Josep, el concert de l'Escola Municipal de Música, des de l'Ajuntament de la Llagosta s'ha fet un balanç positiu dels actes realitzats. Tant ahir com el cap de setmana passat s'han desenvolupat un seguit de propostes per celebrar el patró de la nostra localitat.
URI:https://www.llagosta.cat/actualitat/noticies/lajuntament-fa-un-primer-balanc-positiu-dels-actes-de-les-festes-de-sant-josep.html
CLASS:PUBLIC
END:VEVENT
END:VCALENDAR
