BEGIN:VCALENDAR
VERSION:2.0
CALSCALE:GREGORIAN
PRODID:-//Diputació de Barcelona//DibaCMS//EN
BEGIN:VEVENT
UID:5914
DTSTAMP:20260422T170019
DTSTART:20130320T000000
DTEND:20140320T000000
SUMMARY:El Centre Cultural acollirà divendres el Concert de Sant Josep de l'Escola Municipal de Música
LOCATION:
METHOD:PUBLISH
X-WR-CALNAME:llagosta@llagosta.cat
X-WR-TIMEZONE:Europe/Madrid
DESCRIPTION:L'Escola Municipal de Música de la Llagosta oferirà divendres al Centre Cultural el Concert de Sant Josep. Abans, concretament avui i demà, Can Pelegrí acull audicions de petit format protagonitzades pels alumnes solistes del centre.
URI:https://www.llagosta.cat/actualitat/noticies/el-centre-cultural-acollira-divendres-el-concert-de-sant-josep-de-lescola-municipal-de-musica.html
CLASS:PUBLIC
END:VEVENT
END:VCALENDAR
