BEGIN:VCALENDAR
VERSION:2.0
CALSCALE:GREGORIAN
PRODID:-//Diputació de Barcelona//DibaCMS//EN
BEGIN:VEVENT
UID:5913
DTSTAMP:20260423T092402
DTSTART:20130320T000000
DTEND:20140320T000000
SUMMARY:El Viejas Glorias, perjudicat per l'arbitratge, perd al camp del Badia (4-2)
LOCATION:
METHOD:PUBLISH
X-WR-CALNAME:llagosta@llagosta.cat
X-WR-TIMEZONE:Europe/Madrid
DESCRIPTION:El Club Deportivo Viejas Glorias va perdre la jornada passada per 4 gols a 2 al camp del Badia. La primera part va ser força igualada, però amb més ocasions per al Badia.
URI:https://www.llagosta.cat/actualitat/noticies/el-viejas-glorias-perjudicat-per-larbitratge-perd-al-camp-del-badia-4-2.html
CLASS:PUBLIC
END:VEVENT
END:VCALENDAR
