BEGIN:VCALENDAR
VERSION:2.0
CALSCALE:GREGORIAN
PRODID:-//Diputació de Barcelona//DibaCMS//EN
BEGIN:VEVENT
UID:5912
DTSTAMP:20260422T034747
DTSTART:20130318T000000
DTEND:20140318T000000
SUMMARY:Demà, més activitats per celebrar les festes de Sant Josep a la Llagosta
LOCATION:
METHOD:PUBLISH
X-WR-CALNAME:llagosta@llagosta.cat
X-WR-TIMEZONE:Europe/Madrid
DESCRIPTION:Demà, dia festiu a la Llagosta per la celebració del patró de la nostra localitat, continuarà el desenvolupament de la programació d'activitats per les festes de Sant Josep. Durant tot el dia, hi haurà atraccions gratuïtes per als més petits al costat de l'Església. 
URI:https://www.llagosta.cat/actualitat/noticies/dema-mes-activitats-per-celebrar-les-festes-de-sant-josep-a-la-llagosta.html
CLASS:PUBLIC
END:VEVENT
END:VCALENDAR
